BEGIN:VCALENDAR
VERSION:2.0
PRODID:-//aspekte SALZBURG - ECPv6.15.14//NONSGML v1.0//EN
CALSCALE:GREGORIAN
METHOD:PUBLISH
X-WR-CALNAME:aspekte SALZBURG
X-ORIGINAL-URL:https://aspekte-salzburg.com
X-WR-CALDESC:Veranstaltungen für aspekte SALZBURG
REFRESH-INTERVAL;VALUE=DURATION:PT1H
X-Robots-Tag:noindex
X-PUBLISHED-TTL:PT1H
BEGIN:VTIMEZONE
TZID:Europe/Paris
BEGIN:DAYLIGHT
TZOFFSETFROM:+0100
TZOFFSETTO:+0200
TZNAME:CEST
DTSTART:19910331T010000
END:DAYLIGHT
BEGIN:STANDARD
TZOFFSETFROM:+0200
TZOFFSETTO:+0100
TZNAME:CET
DTSTART:19910929T010000
END:STANDARD
BEGIN:DAYLIGHT
TZOFFSETFROM:+0100
TZOFFSETTO:+0200
TZNAME:CEST
DTSTART:19920329T010000
END:DAYLIGHT
BEGIN:STANDARD
TZOFFSETFROM:+0200
TZOFFSETTO:+0100
TZNAME:CET
DTSTART:19920927T010000
END:STANDARD
BEGIN:DAYLIGHT
TZOFFSETFROM:+0100
TZOFFSETTO:+0200
TZNAME:CEST
DTSTART:19930328T010000
END:DAYLIGHT
BEGIN:STANDARD
TZOFFSETFROM:+0200
TZOFFSETTO:+0100
TZNAME:CET
DTSTART:19930926T010000
END:STANDARD
END:VTIMEZONE
BEGIN:VEVENT
DTSTART;TZID=Europe/Paris:19920528T200000
DTEND;TZID=Europe/Paris:19920528T200000
DTSTAMP:20260423T103123
CREATED:20190807T092247Z
LAST-MODIFIED:20251120T160845Z
UID:2065-707083200-707083200@aspekte-salzburg.com
SUMMARY:Konzert X
DESCRIPTION:Programm\nMario Ficarelli\, Ensaio 90 (1990)\nTrio\, österr. EA \nEduardo G. Alvares\, Pocema (1992)\nDuo\, österr. EA \nRodolfo Caesar\, Canibali (1991)\nTrio\, österr EA \nAlejandro Iglesias-Rossi\, Acerados Cielos (1992\, UA) \nChico Mello\, Piao (1989)\nösterr. EA \nJosé Augusto Mannis\, Reflexos (1991)\nDuo für Marimba und Vibraphon mit Tonband\, österr. EA \nLuis Carlos Csekö\, Cancoes do Alheamento III\nTrio UA \n  \nMitwirkende\nTrio Franco-Brésilien\nThierry Miroglio\nCarlos Tarcha\nJoaquim Abreu
URL:https://aspekte-salzburg.com/konzert/konzert-x-8/
LOCATION:Großes Studio\, Universität Mozarteum\, Mirabellplatz 1\, Salzburg\, 5020
END:VEVENT
END:VCALENDAR