BEGIN:VCALENDAR
VERSION:2.0
PRODID:-//aspekte SALZBURG - ECPv6.15.14//NONSGML v1.0//EN
CALSCALE:GREGORIAN
METHOD:PUBLISH
X-WR-CALNAME:aspekte SALZBURG
X-ORIGINAL-URL:https://aspekte-salzburg.com
X-WR-CALDESC:Veranstaltungen für aspekte SALZBURG
REFRESH-INTERVAL;VALUE=DURATION:PT1H
X-Robots-Tag:noindex
X-PUBLISHED-TTL:PT1H
BEGIN:VTIMEZONE
TZID:Europe/Paris
BEGIN:DAYLIGHT
TZOFFSETFROM:+0100
TZOFFSETTO:+0200
TZNAME:CEST
DTSTART:20110327T010000
END:DAYLIGHT
BEGIN:STANDARD
TZOFFSETFROM:+0200
TZOFFSETTO:+0100
TZNAME:CET
DTSTART:20111030T010000
END:STANDARD
BEGIN:DAYLIGHT
TZOFFSETFROM:+0100
TZOFFSETTO:+0200
TZNAME:CEST
DTSTART:20120325T010000
END:DAYLIGHT
BEGIN:STANDARD
TZOFFSETFROM:+0200
TZOFFSETTO:+0100
TZNAME:CET
DTSTART:20121028T010000
END:STANDARD
BEGIN:DAYLIGHT
TZOFFSETFROM:+0100
TZOFFSETTO:+0200
TZNAME:CEST
DTSTART:20130331T010000
END:DAYLIGHT
BEGIN:STANDARD
TZOFFSETFROM:+0200
TZOFFSETTO:+0100
TZNAME:CET
DTSTART:20131027T010000
END:STANDARD
END:VTIMEZONE
BEGIN:VEVENT
DTSTART;TZID=Europe/Paris:20120513T110000
DTEND;TZID=Europe/Paris:20120513T170000
DTSTAMP:20260421T120147
CREATED:20190717T091235Z
LAST-MODIFIED:20251120T155255Z
UID:1601-1336906800-1336928400@aspekte-salzburg.com
SUMMARY:Konzert X | Zebra Trio
DESCRIPTION:Programm\n  \nKaija Saariaho (*1952)\, Aure\, hommage á Henri Dutilleux für Violine und Viola (2011) \n  \nAnton Webern (1883-1945)\, Streichtrio op. 20 (1926/27)\nSehr langsam\nSehr langsam und ausdrucksvoll \nKaija Saariaho\, Cloud Trio (2009) \nFriedrich Cerha (*1926)\,Deux éclats en réflexion für Violine und Klavier (1956) \nAnton Webern\, Drei kleine Stücke für Violoncello und Klavier op. 11 (1914)\nMäßige Achtel\nSehr bewegt\nÄußerst ruhig \nFriedrich Cerha\, Zebra-Trio für Violine\, Viola und Cello (2010) \n  \nMitwirkende\n  \nErnst Kovacic\, Violine \nSteven Dann\, Viola \nAnssi Kartunen\, Violoncello \nMathilde Hoursiangou\, Klavier \n 
URL:https://aspekte-salzburg.com/konzert/konzert-x-zebra-trio/
LOCATION:Solitär\, Universität Mozarteum\, Mirabellplatz 1\, Salzburg\, 5020\, Österreich
END:VEVENT
END:VCALENDAR