BEGIN:VCALENDAR
VERSION:2.0
PRODID:-//aspekte SALZBURG - ECPv6.15.14//NONSGML v1.0//EN
CALSCALE:GREGORIAN
METHOD:PUBLISH
X-WR-CALNAME:aspekte SALZBURG
X-ORIGINAL-URL:https://aspekte-salzburg.com
X-WR-CALDESC:Veranstaltungen für aspekte SALZBURG
REFRESH-INTERVAL;VALUE=DURATION:PT1H
X-Robots-Tag:noindex
X-PUBLISHED-TTL:PT1H
BEGIN:VTIMEZONE
TZID:Europe/Paris
BEGIN:DAYLIGHT
TZOFFSETFROM:+0100
TZOFFSETTO:+0200
TZNAME:CEST
DTSTART:20030330T010000
END:DAYLIGHT
BEGIN:STANDARD
TZOFFSETFROM:+0200
TZOFFSETTO:+0100
TZNAME:CET
DTSTART:20031026T010000
END:STANDARD
BEGIN:DAYLIGHT
TZOFFSETFROM:+0100
TZOFFSETTO:+0200
TZNAME:CEST
DTSTART:20040328T010000
END:DAYLIGHT
BEGIN:STANDARD
TZOFFSETFROM:+0200
TZOFFSETTO:+0100
TZNAME:CET
DTSTART:20041031T010000
END:STANDARD
BEGIN:DAYLIGHT
TZOFFSETFROM:+0100
TZOFFSETTO:+0200
TZNAME:CEST
DTSTART:20050327T010000
END:DAYLIGHT
BEGIN:STANDARD
TZOFFSETFROM:+0200
TZOFFSETTO:+0100
TZNAME:CET
DTSTART:20051030T010000
END:STANDARD
END:VTIMEZONE
BEGIN:VEVENT
DTSTART;TZID=Europe/Paris:20040304T183000
DTEND;TZID=Europe/Paris:20040304T183000
DTSTAMP:20260421T120618
CREATED:20190725T064019Z
LAST-MODIFIED:20251120T155840Z
UID:1775-1078425000-1078425000@aspekte-salzburg.com
SUMMARY:Konzert XI
DESCRIPTION:Programm\nBarbara Magnoni\, Emersione\nFlöte und Violine \nEnrico Correggia\, Animus\nFlöte\, Violine und Klavier \nSiegfried Thiele\, Dafne\nVioline und Klavier \nAndrea Talmelli\, Equazione a 2 incognite\nFlöte und Violine \nTüring Bräm\, Città da comporre\nFlöte\, Violine und Klavier \nKlaus Ager\, Spazi comunicati\nFlöte\, Violine und Klavier \nMichele Biasutti\, Roulette cosmica\nVioline und Klavier \nAndor Losonzcy\, Il grande Inquisitore\nFlöte\, Violine und Klavier \nSalvatore Macchia\, Vortice\nFlöte. Violine und Klavier \nYuji Itoh\, Punto zero\nFlöte\, Violine und Klavier \nYori-Aki Matsudaira\, XYZ: Le porte dell’otre\nKlavier \nJean-Luc Darbellay\, Lo spirito assoluto\nFlöte\, Violine und Klavier \nTakashi Fujii\, La crisalide\nFlöte und Violine \nGideon Lewensohn\, Canzone d’amore\nVioline \nStefano Pelagatti\, Il richiamo della regina\nFlöte und Violine \nDavid Macculi\, Emersione\nFlöte\, Violine und Klavier \n  \nMitwirkende\nEnsemble Dynamis\nGianluigi Nuccini\, Flöte\nSilvia Mandolini\, Violine\nCandida Felici\, Klavier \n 
URL:https://aspekte-salzburg.com/konzert/konzert-xi-2/
LOCATION:Salzburg Museum\, Mozartplatz 1\, Salzburg\, 5020
END:VEVENT
END:VCALENDAR