BEGIN:VCALENDAR
VERSION:2.0
PRODID:-//aspekte SALZBURG - ECPv6.15.14//NONSGML v1.0//EN
CALSCALE:GREGORIAN
METHOD:PUBLISH
X-WR-CALNAME:aspekte SALZBURG
X-ORIGINAL-URL:https://aspekte-salzburg.com
X-WR-CALDESC:Veranstaltungen für aspekte SALZBURG
REFRESH-INTERVAL;VALUE=DURATION:PT1H
X-Robots-Tag:noindex
X-PUBLISHED-TTL:PT1H
BEGIN:VTIMEZONE
TZID:Europe/Paris
BEGIN:DAYLIGHT
TZOFFSETFROM:+0100
TZOFFSETTO:+0200
TZNAME:CEST
DTSTART:19970330T010000
END:DAYLIGHT
BEGIN:STANDARD
TZOFFSETFROM:+0200
TZOFFSETTO:+0100
TZNAME:CET
DTSTART:19971026T010000
END:STANDARD
BEGIN:DAYLIGHT
TZOFFSETFROM:+0100
TZOFFSETTO:+0200
TZNAME:CEST
DTSTART:19980329T010000
END:DAYLIGHT
BEGIN:STANDARD
TZOFFSETFROM:+0200
TZOFFSETTO:+0100
TZNAME:CET
DTSTART:19981025T010000
END:STANDARD
BEGIN:DAYLIGHT
TZOFFSETFROM:+0100
TZOFFSETTO:+0200
TZNAME:CEST
DTSTART:19990328T010000
END:DAYLIGHT
BEGIN:STANDARD
TZOFFSETFROM:+0200
TZOFFSETTO:+0100
TZNAME:CET
DTSTART:19991031T010000
END:STANDARD
END:VTIMEZONE
BEGIN:VEVENT
DTSTART;TZID=Europe/Paris:19980529T190000
DTEND;TZID=Europe/Paris:19980529T190000
DTSTAMP:20260421T104453
CREATED:20190731T063813Z
LAST-MODIFIED:20251120T160225Z
UID:1894-896468400-896468400@aspekte-salzburg.com
SUMMARY:Konzert XI
DESCRIPTION:Programm\nMauricio Kagel\, \nPhantasiestück\nfür Flöte und Klavier mit Begleitung (1987/88) \nFinale\nmit Kammerensemble (1980/81) \nOrchestrion~Straat\nfür Kammerensemble (1995/96) \n  \nMitwirkende\nEnsemble für Neue Musik der Hochschule Mozarteum \nMichael M Kofler\, Flöte \nRolf Plagge\, Klavier \nOswald Sallaberger\, Leitung \nMauricio Kagel\, Einführung
URL:https://aspekte-salzburg.com/konzert/konzert-xi-3/
LOCATION:Großes Studio\, Universität Mozarteum\, Mirabellplatz 1\, Salzburg\, 5020
END:VEVENT
END:VCALENDAR