BEGIN:VCALENDAR
VERSION:2.0
PRODID:-//aspekte SALZBURG - ECPv6.15.14//NONSGML v1.0//EN
CALSCALE:GREGORIAN
METHOD:PUBLISH
X-WR-CALNAME:aspekte SALZBURG
X-ORIGINAL-URL:https://aspekte-salzburg.com
X-WR-CALDESC:Veranstaltungen für aspekte SALZBURG
REFRESH-INTERVAL;VALUE=DURATION:PT1H
X-Robots-Tag:noindex
X-PUBLISHED-TTL:PT1H
BEGIN:VTIMEZONE
TZID:Europe/Paris
BEGIN:DAYLIGHT
TZOFFSETFROM:+0100
TZOFFSETTO:+0200
TZNAME:CEST
DTSTART:19920329T010000
END:DAYLIGHT
BEGIN:STANDARD
TZOFFSETFROM:+0200
TZOFFSETTO:+0100
TZNAME:CET
DTSTART:19920927T010000
END:STANDARD
BEGIN:DAYLIGHT
TZOFFSETFROM:+0100
TZOFFSETTO:+0200
TZNAME:CEST
DTSTART:19930328T010000
END:DAYLIGHT
BEGIN:STANDARD
TZOFFSETFROM:+0200
TZOFFSETTO:+0100
TZNAME:CET
DTSTART:19930926T010000
END:STANDARD
BEGIN:DAYLIGHT
TZOFFSETFROM:+0100
TZOFFSETTO:+0200
TZNAME:CEST
DTSTART:19940327T010000
END:DAYLIGHT
BEGIN:STANDARD
TZOFFSETFROM:+0200
TZOFFSETTO:+0100
TZNAME:CET
DTSTART:19940925T010000
END:STANDARD
END:VTIMEZONE
BEGIN:VEVENT
DTSTART;TZID=Europe/Paris:19930423T200000
DTEND;TZID=Europe/Paris:19930423T200000
DTSTAMP:20260421T121646
CREATED:20190806T094314Z
LAST-MODIFIED:20251120T160641Z
UID:2039-735595200-735595200@aspekte-salzburg.com
SUMMARY:Konzert XII
DESCRIPTION:Programm\nIgor Druch\, In Memoriam (1991)\nStreichquartett \nLeonid Resetnikow\, An internal space (1992)\nfür Klarinette\, Violine und Klavier (UA) \nAlexander Popow\, Quintett (1987)\nfür 2 Violinen\, Bratsche\, Violoncello und Klavier \n  \nMitwirkende\noenm. österreichisches ensemble für neue musik \nEmil Rieder\, Klarinette \nHolger Busch\, Klavier \nStreichquartett des oenm.
URL:https://aspekte-salzburg.com/konzert/konzert-xii-2/
LOCATION:Orchesterhaus\, Erzbischof-Gebhard-Straße 10\, Salzburg\, 5020
END:VEVENT
END:VCALENDAR