BEGIN:VCALENDAR
VERSION:2.0
PRODID:-//aspekte SALZBURG - ECPv6.15.14//NONSGML v1.0//EN
CALSCALE:GREGORIAN
METHOD:PUBLISH
X-WR-CALNAME:aspekte SALZBURG
X-ORIGINAL-URL:https://aspekte-salzburg.com
X-WR-CALDESC:Veranstaltungen für aspekte SALZBURG
REFRESH-INTERVAL;VALUE=DURATION:PT1H
X-Robots-Tag:noindex
X-PUBLISHED-TTL:PT1H
BEGIN:VTIMEZONE
TZID:Europe/Paris
BEGIN:DAYLIGHT
TZOFFSETFROM:+0100
TZOFFSETTO:+0200
TZNAME:CEST
DTSTART:19910331T010000
END:DAYLIGHT
BEGIN:STANDARD
TZOFFSETFROM:+0200
TZOFFSETTO:+0100
TZNAME:CET
DTSTART:19910929T010000
END:STANDARD
BEGIN:DAYLIGHT
TZOFFSETFROM:+0100
TZOFFSETTO:+0200
TZNAME:CEST
DTSTART:19920329T010000
END:DAYLIGHT
BEGIN:STANDARD
TZOFFSETFROM:+0200
TZOFFSETTO:+0100
TZNAME:CET
DTSTART:19920927T010000
END:STANDARD
BEGIN:DAYLIGHT
TZOFFSETFROM:+0100
TZOFFSETTO:+0200
TZNAME:CEST
DTSTART:19930328T010000
END:DAYLIGHT
BEGIN:STANDARD
TZOFFSETFROM:+0200
TZOFFSETTO:+0100
TZNAME:CET
DTSTART:19930926T010000
END:STANDARD
END:VTIMEZONE
BEGIN:VEVENT
DTSTART;TZID=Europe/Paris:19920529T200000
DTEND;TZID=Europe/Paris:19920529T200000
DTSTAMP:20260421T104656
CREATED:20190807T094315Z
LAST-MODIFIED:20251120T160839Z
UID:2069-707169600-707169600@aspekte-salzburg.com
SUMMARY:Konzert XII
DESCRIPTION:Programm\nJorge Antunes\, Dramatic Polimanikhexixe or Fifth Mouvement for a Suite implacably long and erotic (1986)\nfür Klarinette\, Klavier und Violoncello\, österr. EA \nJorge Antunes\, Canto Esthereofônico (1978)\nfür Bassflöte\, Klarinette\, Klavier\, Viola\, Violoncello\, Schlagzeug und Tonband\, europ. EA \nFlautatualf (1979)\nfür einen Flötisten\, der Flöte\, Piccolo\, Flaschen und Tonband\, österr. EA \nJorge Antunes\, Três Impressoes Cancioneirigenas (1976)\nfür Flöte\, Viola und Violoncello in drei Sätzen:\nSong without words\nSong with words\nWords without song \nJorge Antunes\, Amerika 500 (1992\, UA)\nfür Flöte\, Bassklarinette\, Klavier\, Viola\, Violoncello und Schlagzeug in fünf Sätzen:\nThe Pirogues dont go very far\nThe Covering\nKurios\, Patativas\, Xexéus and the Waraná\nThe Machines that make Machines\nIn Search of our Jabirus \n  \nMitwirkende\nEnsemble WNC-Köln\nNormisa Pereira\, Flöte\nDiego Montes\, Klarinette\nVincent Royer\, Bratsche\nGeorg Börges\, Violoncello\nThomas Meixner\, Schlagzeug\nMartina Bittner\, Klavier \nJorge Antunes\, Leitung
URL:https://aspekte-salzburg.com/konzert/konzert-xii-3/
LOCATION:Großes Studio\, Universität Mozarteum\, Mirabellplatz 1\, Salzburg\, 5020
END:VEVENT
END:VCALENDAR