BEGIN:VCALENDAR
VERSION:2.0
PRODID:-//aspekte SALZBURG - ECPv6.15.14//NONSGML v1.0//EN
CALSCALE:GREGORIAN
METHOD:PUBLISH
X-WR-CALNAME:aspekte SALZBURG
X-ORIGINAL-URL:https://aspekte-salzburg.com
X-WR-CALDESC:Veranstaltungen für aspekte SALZBURG
REFRESH-INTERVAL;VALUE=DURATION:PT1H
X-Robots-Tag:noindex
X-PUBLISHED-TTL:PT1H
BEGIN:VTIMEZONE
TZID:Europe/Paris
BEGIN:DAYLIGHT
TZOFFSETFROM:+0100
TZOFFSETTO:+0200
TZNAME:CEST
DTSTART:19840325T010000
END:DAYLIGHT
BEGIN:STANDARD
TZOFFSETFROM:+0200
TZOFFSETTO:+0100
TZNAME:CET
DTSTART:19840930T010000
END:STANDARD
BEGIN:DAYLIGHT
TZOFFSETFROM:+0100
TZOFFSETTO:+0200
TZNAME:CEST
DTSTART:19850331T010000
END:DAYLIGHT
BEGIN:STANDARD
TZOFFSETFROM:+0200
TZOFFSETTO:+0100
TZNAME:CET
DTSTART:19850929T010000
END:STANDARD
BEGIN:DAYLIGHT
TZOFFSETFROM:+0100
TZOFFSETTO:+0200
TZNAME:CEST
DTSTART:19860330T010000
END:DAYLIGHT
BEGIN:STANDARD
TZOFFSETFROM:+0200
TZOFFSETTO:+0100
TZNAME:CET
DTSTART:19860928T010000
END:STANDARD
END:VTIMEZONE
BEGIN:VEVENT
DTSTART;TZID=Europe/Paris:19850519T200000
DTEND;TZID=Europe/Paris:19850519T200000
DTSTAMP:20260421T120037
CREATED:20190821T102556Z
LAST-MODIFIED:20251120T161504Z
UID:2265-485380800-485380800@aspekte-salzburg.com
SUMMARY:Konzert XII
DESCRIPTION:Programm\nMaulwerke 85\nfür Artikulationsorgane und Reproduktionsgeräte \nKörper-Sprache\nOrgankomposition für 5 Ausführende \nLaut-Gesten-Laute\nI Phantasien mit Haupt und Gliedern\nII Redeübungen für Hand und Mund\nIII Weisen von Kopf bis Fuß \n  \nMitwirkende\nImke Buchholz\nMichael Hirsch\nJürgen Marquardt\, Ton\nMarc Deggetter\, Bild\nBeatrice Mathez-Wüthrich\nDieter Schnebel\, Einstudierung und Leitung
URL:https://aspekte-salzburg.com/konzert/konzert-xii-7/
LOCATION:Großes Studio\, Universität Mozarteum\, Mirabellplatz 1\, Salzburg\, 5020
END:VEVENT
END:VCALENDAR