BEGIN:VCALENDAR
VERSION:2.0
PRODID:-//aspekte SALZBURG - ECPv6.15.14//NONSGML v1.0//EN
CALSCALE:GREGORIAN
METHOD:PUBLISH
X-WR-CALNAME:aspekte SALZBURG
X-ORIGINAL-URL:https://aspekte-salzburg.com
X-WR-CALDESC:Veranstaltungen für aspekte SALZBURG
REFRESH-INTERVAL;VALUE=DURATION:PT1H
X-Robots-Tag:noindex
X-PUBLISHED-TTL:PT1H
BEGIN:VTIMEZONE
TZID:Europe/Paris
BEGIN:DAYLIGHT
TZOFFSETFROM:+0100
TZOFFSETTO:+0200
TZNAME:CEST
DTSTART:20110327T010000
END:DAYLIGHT
BEGIN:STANDARD
TZOFFSETFROM:+0200
TZOFFSETTO:+0100
TZNAME:CET
DTSTART:20111030T010000
END:STANDARD
BEGIN:DAYLIGHT
TZOFFSETFROM:+0100
TZOFFSETTO:+0200
TZNAME:CEST
DTSTART:20120325T010000
END:DAYLIGHT
BEGIN:STANDARD
TZOFFSETFROM:+0200
TZOFFSETTO:+0100
TZNAME:CET
DTSTART:20121028T010000
END:STANDARD
BEGIN:DAYLIGHT
TZOFFSETFROM:+0100
TZOFFSETTO:+0200
TZNAME:CEST
DTSTART:20130331T010000
END:DAYLIGHT
BEGIN:STANDARD
TZOFFSETFROM:+0200
TZOFFSETTO:+0100
TZNAME:CET
DTSTART:20131027T010000
END:STANDARD
END:VTIMEZONE
BEGIN:VEVENT
DTSTART;TZID=Europe/Paris:20120513T190000
DTEND;TZID=Europe/Paris:20120513T190000
DTSTAMP:20260421T104937
CREATED:20190717T093534Z
LAST-MODIFIED:20251120T155250Z
UID:1606-1336935600-1336935600@aspekte-salzburg.com
SUMMARY:Konzert XII | Mozarteumorchester Salzburg
DESCRIPTION:Programm\nPremiere \n  \nWOZZECK \nOper in 3 Akten (15 Szenen) von Alban Berg in deutscher Sprache \nNach dem Drama ”Woyzeck” von Georg Büchner \n  \nEine Produktion des Salzburger Landestheaters – in Kooperation mit dem Aspekte Festival \n  \nMitwirkende\n  \nMusikalische Leitung: Leo Hussain \nInszenierung: Amélie Niermeyer \nBühnenbild: Stefanie Seitz \nKostüme: Kirsten Dephoff \nChoreinstudierung: Stefan Müller \nDramaturgie: Andreas Gergen / Tobias Hell \n  \nWozzeck: Leigh Melrose \nTambourmajor: Franz Supper \nAndres: Joel Sorensen \nHauptmann: Dietmar Kerschbaum \nDoktor: Graeme Danby \n1. Handwerksbursche: Hubert Wild \n2. Handwerksbursche: Simon Schnorr \nDer Narr: Philipp Schausberger \nMarie: Frances Pappas \nMargret: Emily Righter \nMariens Knabe: Elias Pappas/Rosalie Trattner \nEin Soldat: Vesselin Hristov \n  \nChor und Extrachor des Salzburger Landestheaters
URL:https://aspekte-salzburg.com/konzert/konzert-xii-mozarteumorchester-salzburg/
LOCATION:Salzburger Landestheater\, Schwarzstraße 22\, Salzburg\, 5020\, Österreich
END:VEVENT
END:VCALENDAR