BEGIN:VCALENDAR
VERSION:2.0
PRODID:-//aspekte SALZBURG - ECPv6.15.14//NONSGML v1.0//EN
CALSCALE:GREGORIAN
METHOD:PUBLISH
X-WR-CALNAME:aspekte SALZBURG
X-ORIGINAL-URL:https://aspekte-salzburg.com
X-WR-CALDESC:Veranstaltungen für aspekte SALZBURG
REFRESH-INTERVAL;VALUE=DURATION:PT1H
X-Robots-Tag:noindex
X-PUBLISHED-TTL:PT1H
BEGIN:VTIMEZONE
TZID:Europe/Paris
BEGIN:DAYLIGHT
TZOFFSETFROM:+0100
TZOFFSETTO:+0200
TZNAME:CEST
DTSTART:19950326T010000
END:DAYLIGHT
BEGIN:STANDARD
TZOFFSETFROM:+0200
TZOFFSETTO:+0100
TZNAME:CET
DTSTART:19950924T010000
END:STANDARD
BEGIN:DAYLIGHT
TZOFFSETFROM:+0100
TZOFFSETTO:+0200
TZNAME:CEST
DTSTART:19960331T010000
END:DAYLIGHT
BEGIN:STANDARD
TZOFFSETFROM:+0200
TZOFFSETTO:+0100
TZNAME:CET
DTSTART:19961027T010000
END:STANDARD
BEGIN:DAYLIGHT
TZOFFSETFROM:+0100
TZOFFSETTO:+0200
TZNAME:CEST
DTSTART:19970330T010000
END:DAYLIGHT
BEGIN:STANDARD
TZOFFSETFROM:+0200
TZOFFSETTO:+0100
TZNAME:CET
DTSTART:19971026T010000
END:STANDARD
END:VTIMEZONE
BEGIN:VEVENT
DTSTART;TZID=Europe/Paris:19960516T200000
DTEND;TZID=Europe/Paris:19960516T200000
DTSTAMP:20260421T104648
CREATED:20190731T124406Z
LAST-MODIFIED:20251120T160400Z
UID:1947-832276800-832276800@aspekte-salzburg.com
SUMMARY:Konzert XII
DESCRIPTION:Programm\nEugene Hartzell\, Horntrio (A little light Music) ÖEA \nHerbert Lauermann\, Waves für Klavier \nRainer Bischof\, Gedanken für drei Instrumente \nChristian Ofenbauer\, Albumblatt für J.M. \nThomas Daniel Schlee\, Melodie und Movement für Violine und Klavier \nGerhard Schedl\, Sonate für Soloflöte (1981) \nRené Staar\, Gemini A1 & A5\nBagatellen I-IV auf den Namen György Ligeti ÖEA \nErik Freitag\, Triaphone I \n  \nMitwirkende\nEnsemble Wiener Collage
URL:https://aspekte-salzburg.com/konzert/konzert-xii/
LOCATION:Großes Studio\, Universität Mozarteum\, Mirabellplatz 1\, Salzburg\, 5020
END:VEVENT
END:VCALENDAR