BEGIN:VCALENDAR
VERSION:2.0
PRODID:-//aspekte SALZBURG - ECPv6.15.14//NONSGML v1.0//EN
CALSCALE:GREGORIAN
METHOD:PUBLISH
X-WR-CALNAME:aspekte SALZBURG
X-ORIGINAL-URL:https://aspekte-salzburg.com
X-WR-CALDESC:Veranstaltungen für aspekte SALZBURG
REFRESH-INTERVAL;VALUE=DURATION:PT1H
X-Robots-Tag:noindex
X-PUBLISHED-TTL:PT1H
BEGIN:VTIMEZONE
TZID:Europe/Paris
BEGIN:DAYLIGHT
TZOFFSETFROM:+0100
TZOFFSETTO:+0200
TZNAME:CEST
DTSTART:19900325T010000
END:DAYLIGHT
BEGIN:STANDARD
TZOFFSETFROM:+0200
TZOFFSETTO:+0100
TZNAME:CET
DTSTART:19900930T010000
END:STANDARD
BEGIN:DAYLIGHT
TZOFFSETFROM:+0100
TZOFFSETTO:+0200
TZNAME:CEST
DTSTART:19910331T010000
END:DAYLIGHT
BEGIN:STANDARD
TZOFFSETFROM:+0200
TZOFFSETTO:+0100
TZNAME:CET
DTSTART:19910929T010000
END:STANDARD
BEGIN:DAYLIGHT
TZOFFSETFROM:+0100
TZOFFSETTO:+0200
TZNAME:CEST
DTSTART:19920329T010000
END:DAYLIGHT
BEGIN:STANDARD
TZOFFSETFROM:+0200
TZOFFSETTO:+0100
TZNAME:CET
DTSTART:19920927T010000
END:STANDARD
END:VTIMEZONE
BEGIN:VEVENT
DTSTART;TZID=Europe/Paris:19910608T200000
DTEND;TZID=Europe/Paris:19910608T200000
DTSTAMP:20260421T104739
CREATED:20190808T093717Z
LAST-MODIFIED:20251120T160921Z
UID:2101-676411200-676411200@aspekte-salzburg.com
SUMMARY:Konzert XIII
DESCRIPTION:Programm\nBoguslaw Schaeffer\, Projekt einer automatischen Musikkomposition\, UA \nJosef Maria Horvath\, Atemübungen (1964)\nfür Sopran\, Klarinette\, Horn\, Cembalo und Violine \nAndor Losonczy\, Neue Texte\, nach dadaistischen Gedichten\nfür Piccolo-Flöte\, Bass-Klarinette\, Klavier\, Violine und Violoncello \nHerbert Grassl\, Latzomygon\nfür einen Schauspieler\, Live-Elektronik und Tonband \nJohn Cage\, Variations I \nJohn Cage – Alberto Caprioli\, Variations VI \n  \nMitwirkende\noenm. österreichisches ensemble für neue musik \nOswald Sallaberger\, Leiter \n  \n 
URL:https://aspekte-salzburg.com/konzert/konzert-xiii-2/
LOCATION:Großes Studio\, Universität Mozarteum\, Mirabellplatz 1\, Salzburg\, 5020
END:VEVENT
END:VCALENDAR