BEGIN:VCALENDAR
VERSION:2.0
PRODID:-//aspekte SALZBURG - ECPv6.15.14//NONSGML v1.0//EN
CALSCALE:GREGORIAN
METHOD:PUBLISH
X-WR-CALNAME:aspekte SALZBURG
X-ORIGINAL-URL:https://aspekte-salzburg.com
X-WR-CALDESC:Veranstaltungen für aspekte SALZBURG
REFRESH-INTERVAL;VALUE=DURATION:PT1H
X-Robots-Tag:noindex
X-PUBLISHED-TTL:PT1H
BEGIN:VTIMEZONE
TZID:Europe/Paris
BEGIN:DAYLIGHT
TZOFFSETFROM:+0100
TZOFFSETTO:+0200
TZNAME:CEST
DTSTART:19870329T010000
END:DAYLIGHT
BEGIN:STANDARD
TZOFFSETFROM:+0200
TZOFFSETTO:+0100
TZNAME:CET
DTSTART:19870927T010000
END:STANDARD
BEGIN:DAYLIGHT
TZOFFSETFROM:+0100
TZOFFSETTO:+0200
TZNAME:CEST
DTSTART:19880327T010000
END:DAYLIGHT
BEGIN:STANDARD
TZOFFSETFROM:+0200
TZOFFSETTO:+0100
TZNAME:CET
DTSTART:19880925T010000
END:STANDARD
BEGIN:DAYLIGHT
TZOFFSETFROM:+0100
TZOFFSETTO:+0200
TZNAME:CEST
DTSTART:19890326T010000
END:DAYLIGHT
BEGIN:STANDARD
TZOFFSETFROM:+0200
TZOFFSETTO:+0100
TZNAME:CET
DTSTART:19890924T010000
END:STANDARD
END:VTIMEZONE
BEGIN:VEVENT
DTSTART;TZID=Europe/Paris:19880514T220000
DTEND;TZID=Europe/Paris:19880514T220000
DTSTAMP:20260421T104604
CREATED:20190816T065817Z
LAST-MODIFIED:20251120T161222Z
UID:2200-579650400-579650400@aspekte-salzburg.com
SUMMARY:Konzert XV
DESCRIPTION:Programm\nPierre Marietan\, Transmusiques III und IV\nlive auf zwei Yamaha-CX5M\n(Transmusique IV: Version Thierry Marietan) \nGuiseppe G. Englert\, Innominata\nlive auf Synclavier I und Macintosh TX816 \nJoel Chadabe\, Solo\nlive auf Synclavier I \nPierre Barbaud\, Saturnia tellus\n(für Tonband) \n  \nMitwirkende\nGroupe d’Etude et Realisations Musicales\nGiuseppe G. Englert\, Synclavier I
URL:https://aspekte-salzburg.com/konzert/konzert-xv-2/
LOCATION:ORF Publikumsstudio\, Nonntaler Hauptstr. 49\, Salzburg\, 5020
END:VEVENT
END:VCALENDAR