BEGIN:VCALENDAR
VERSION:2.0
PRODID:-//aspekte SALZBURG - ECPv6.15.14//NONSGML v1.0//EN
CALSCALE:GREGORIAN
METHOD:PUBLISH
X-WR-CALNAME:aspekte SALZBURG
X-ORIGINAL-URL:https://aspekte-salzburg.com
X-WR-CALDESC:Veranstaltungen für aspekte SALZBURG
REFRESH-INTERVAL;VALUE=DURATION:PT1H
X-Robots-Tag:noindex
X-PUBLISHED-TTL:PT1H
BEGIN:VTIMEZONE
TZID:Europe/Paris
BEGIN:DAYLIGHT
TZOFFSETFROM:+0100
TZOFFSETTO:+0200
TZNAME:CEST
DTSTART:19950326T010000
END:DAYLIGHT
BEGIN:STANDARD
TZOFFSETFROM:+0200
TZOFFSETTO:+0100
TZNAME:CET
DTSTART:19950924T010000
END:STANDARD
BEGIN:DAYLIGHT
TZOFFSETFROM:+0100
TZOFFSETTO:+0200
TZNAME:CEST
DTSTART:19960331T010000
END:DAYLIGHT
BEGIN:STANDARD
TZOFFSETFROM:+0200
TZOFFSETTO:+0100
TZNAME:CET
DTSTART:19961027T010000
END:STANDARD
BEGIN:DAYLIGHT
TZOFFSETFROM:+0100
TZOFFSETTO:+0200
TZNAME:CEST
DTSTART:19970330T010000
END:DAYLIGHT
BEGIN:STANDARD
TZOFFSETFROM:+0200
TZOFFSETTO:+0100
TZNAME:CET
DTSTART:19971026T010000
END:STANDARD
END:VTIMEZONE
BEGIN:VEVENT
DTSTART;TZID=Europe/Paris:19960519T200000
DTEND;TZID=Europe/Paris:19960519T200000
DTSTAMP:20260421T104453
CREATED:20190731T130045Z
LAST-MODIFIED:20251120T160347Z
UID:1954-832536000-832536000@aspekte-salzburg.com
SUMMARY:Konzert XV
DESCRIPTION:Programm\nKonzert für zwei Klaviere \nJean-Louis Delahaut \nJacques Moreau \nPaul Dukas (1865-1935)\, L’apprenti sorcier (Transcription)\, 1897 Nach einem Gedicht von J. W. von Goethe \nClaude Debussy (1862-1918)\, Prélude à l’après-midi d’un faune (Transciption)\, 1894 Nach einem Gedicht von Stéphane Mallarmé \nHenri Dutilleux\, Figure de Resonnance \nOlivier Messiaen (1908-1992)\, Visions de l’Amen (1943)
URL:https://aspekte-salzburg.com/konzert/konzert-xv/
LOCATION:Leopold Mozart Saal\, Mirabellplatz 1\, Salzburg\, 5020
END:VEVENT
END:VCALENDAR