BEGIN:VCALENDAR
VERSION:2.0
PRODID:-//aspekte SALZBURG - ECPv6.15.14//NONSGML v1.0//EN
CALSCALE:GREGORIAN
METHOD:PUBLISH
X-WR-CALNAME:aspekte SALZBURG
X-ORIGINAL-URL:https://aspekte-salzburg.com
X-WR-CALDESC:Veranstaltungen für aspekte SALZBURG
REFRESH-INTERVAL;VALUE=DURATION:PT1H
X-Robots-Tag:noindex
X-PUBLISHED-TTL:PT1H
BEGIN:VTIMEZONE
TZID:Europe/Paris
BEGIN:DAYLIGHT
TZOFFSETFROM:+0100
TZOFFSETTO:+0200
TZNAME:CEST
DTSTART:20230326T010000
END:DAYLIGHT
BEGIN:STANDARD
TZOFFSETFROM:+0200
TZOFFSETTO:+0100
TZNAME:CET
DTSTART:20231029T010000
END:STANDARD
BEGIN:DAYLIGHT
TZOFFSETFROM:+0100
TZOFFSETTO:+0200
TZNAME:CEST
DTSTART:20240331T010000
END:DAYLIGHT
BEGIN:STANDARD
TZOFFSETFROM:+0200
TZOFFSETTO:+0100
TZNAME:CET
DTSTART:20241027T010000
END:STANDARD
BEGIN:DAYLIGHT
TZOFFSETFROM:+0100
TZOFFSETTO:+0200
TZNAME:CEST
DTSTART:20250330T010000
END:DAYLIGHT
BEGIN:STANDARD
TZOFFSETFROM:+0200
TZOFFSETTO:+0100
TZNAME:CET
DTSTART:20251026T010000
END:STANDARD
END:VTIMEZONE
BEGIN:VEVENT
DTSTART;TZID=Europe/Paris:20240309T100000
DTEND;TZID=Europe/Paris:20240309T130000
DTSTAMP:20260421T120044
CREATED:20240306T085533Z
LAST-MODIFIED:20251120T153842Z
UID:5038-1709978400-1709989200@aspekte-salzburg.com
SUMMARY:Lecture III. Frédéric Durieux
DESCRIPTION:Frédéric Durieux\, Professor am Pariser Conservatoire und einer der bedeutendsten und vielfältigsten französischen Komponisten der Jetztzeit\, führt in sein musikalisches Denken ein. Eintritt frei!\n\nFrédéric Durieux\, am 27. Februar 1959 in Paris geboren\, studierte am Conservatoire National Supérieur de Paris\, wo er erste Preise in den Fächern Komposition (Klasse von Ivo Malec\, 1986) und Analyse erhielt (Klasse von Betsy Jolas\, 1984). Anschließend setzte er seine Ausbildung am Institut de Recherche et Coordination Acoustique/Musique (IRCAM) im Fach Musikalische Informatik fort (1985-1986). Von 1987 bis 1989 war er Stipendiat der Académie de France in der Villa Medici in Rom.\nSeit 1983 hat Frédéric Durieux zahlreiche Aufträge erhalten. Seine Musik wurde sowohl in Europa\, als auch in Asien und Amerika aufgeführt.\nIn seinen Stücken\, die Werke für Orchester\, Stimme mit und ohne Elektronik\, Kammermusik und Sololiteratur umfassen\, bezieht er sich häufig auf Dichter und Dramatiker wie Yves Bonnefoy\, Samuel Beckett\, Howard Barker\, Philippe Beck und Paul Celan oder bildene Künstler wie Gerhard Richter\, Cy Twombly und Barnett Newman.\nFrédéric Durieux ist Professor für Komposition am Conservatoire de Paris (CNSMDP) und gibt weltweit Meisterkurse (Deutschland\, Italien\, Großbritannien\, Schweiz\, Österreich\, Schweden\, Norwegen\, China\, Korea\, Japan\, USA\, Mexiko\, usw.).\nIm Jahr 2010 erhielt Frédéric Durieux den Preis der Stiftung Prince Pierre de Monaco und 2016 den Florent-Schmitt-Preis der Académie des Beaux-Arts (Institut de France). Er ist Träger des Ordens der Künste und der Litteratur (Ordre des Arts & Lettres)\nWeitere Informationen finden sich auf seiner homepage www.fredericdurieux.com
URL:https://aspekte-salzburg.com/konzert/lecture-iii-frederic-durieux/
LOCATION:Bösendorfer Saal\, Universität Mozarteum\, Mirabellplatz 1\, Salzburg\, 5020\, Österreich
CATEGORIES:Aspekte 2024
ATTACH;FMTTYPE=image/png:https://aspekte-salzburg.com/wp-content/uploads/2024/02/Frederic-Durieux_c_Pierre-Steffan-Morlet.png
END:VEVENT
END:VCALENDAR