BEGIN:VCALENDAR
VERSION:2.0
PRODID:-//aspekte SALZBURG - ECPv6.15.14//NONSGML v1.0//EN
CALSCALE:GREGORIAN
METHOD:PUBLISH
X-WR-CALNAME:aspekte SALZBURG
X-ORIGINAL-URL:https://aspekte-salzburg.com
X-WR-CALDESC:Veranstaltungen für aspekte SALZBURG
REFRESH-INTERVAL;VALUE=DURATION:PT1H
X-Robots-Tag:noindex
X-PUBLISHED-TTL:PT1H
BEGIN:VTIMEZONE
TZID:Europe/Vienna
BEGIN:DAYLIGHT
TZOFFSETFROM:+0100
TZOFFSETTO:+0200
TZNAME:CEST
DTSTART:20250330T010000
END:DAYLIGHT
BEGIN:STANDARD
TZOFFSETFROM:+0200
TZOFFSETTO:+0100
TZNAME:CET
DTSTART:20251026T010000
END:STANDARD
BEGIN:DAYLIGHT
TZOFFSETFROM:+0100
TZOFFSETTO:+0200
TZNAME:CEST
DTSTART:20260329T010000
END:DAYLIGHT
BEGIN:STANDARD
TZOFFSETFROM:+0200
TZOFFSETTO:+0100
TZNAME:CET
DTSTART:20261025T010000
END:STANDARD
BEGIN:DAYLIGHT
TZOFFSETFROM:+0100
TZOFFSETTO:+0200
TZNAME:CEST
DTSTART:20270328T010000
END:DAYLIGHT
BEGIN:STANDARD
TZOFFSETFROM:+0200
TZOFFSETTO:+0100
TZNAME:CET
DTSTART:20271031T010000
END:STANDARD
END:VTIMEZONE
BEGIN:VEVENT
DTSTART;TZID=Europe/Vienna:20260312T150000
DTEND;TZID=Europe/Vienna:20260312T170000
DTSTAMP:20260421T110014
CREATED:20260220T084232Z
LAST-MODIFIED:20260312T161200Z
UID:8271-1773327600-1773334800@aspekte-salzburg.com
SUMMARY:Fabián Panisello – Introduction into his Musical Cosmos (Open Lecture)
DESCRIPTION:Der argentinisch-spanische Komponist und Dirigent Fabián Panisello bewegt sich mit seiner lebendigen\, anschaulichen und fein differenzierten Tonsprache auf der Höhe der Zeit. Der langjährige Direktor der Hochschule Reina Sofía in Madrid hatte seine Ausbildung als Komponist in seiner Heimatstadt Buenos Aires bei Francisco Kröpfl begonnen. 1993 schloss er als Schüler von Boguslaw Schaeffer am Mozarteum in Salzburg sein Studium mit Auszeichnung ab. Weitere Impulse erhielt er von Elliott Carter\, Franco Donatoni\, Brian Ferneyhough und Luis de Pablo sowie im Fach Dirigieren von Péter Eötvös und Jorma Panula. \nWir laden zu einer Open Lecture am Mozarteum – offen für Studierende und alle an Neuer Musik Interessierte!
URL:https://aspekte-salzburg.com/konzert/open-lecture-mit-fabian-panisello/
LOCATION:Raum 4006\, Universität Mozarteum Salzburg\, Mirabellplatz 1\, Salzburg\, 5020\, Austria
CATEGORIES:Aspekte 2026
ATTACH;FMTTYPE=image/jpeg:https://aspekte-salzburg.com/wp-content/uploads/2026/02/2_Fabian_Panisello_CR_Alejandro_Garcia_Ortiz-e1771577033179.jpg
ORGANIZER;CN="aspekteSALZBURG":MAILTO:office@aspekte-salzburg.at
END:VEVENT
END:VCALENDAR