BEGIN:VCALENDAR
VERSION:2.0
PRODID:-//aspekte SALZBURG - ECPv6.15.14//NONSGML v1.0//EN
CALSCALE:GREGORIAN
METHOD:PUBLISH
X-WR-CALNAME:aspekte SALZBURG
X-ORIGINAL-URL:https://aspekte-salzburg.com
X-WR-CALDESC:Veranstaltungen für aspekte SALZBURG
REFRESH-INTERVAL;VALUE=DURATION:PT1H
X-Robots-Tag:noindex
X-PUBLISHED-TTL:PT1H
BEGIN:VTIMEZONE
TZID:Europe/Paris
BEGIN:DAYLIGHT
TZOFFSETFROM:+0100
TZOFFSETTO:+0200
TZNAME:CEST
DTSTART:20080330T010000
END:DAYLIGHT
BEGIN:STANDARD
TZOFFSETFROM:+0200
TZOFFSETTO:+0100
TZNAME:CET
DTSTART:20081026T010000
END:STANDARD
BEGIN:DAYLIGHT
TZOFFSETFROM:+0100
TZOFFSETTO:+0200
TZNAME:CEST
DTSTART:20090329T010000
END:DAYLIGHT
BEGIN:STANDARD
TZOFFSETFROM:+0200
TZOFFSETTO:+0100
TZNAME:CET
DTSTART:20091025T010000
END:STANDARD
BEGIN:DAYLIGHT
TZOFFSETFROM:+0100
TZOFFSETTO:+0200
TZNAME:CEST
DTSTART:20100328T010000
END:DAYLIGHT
BEGIN:STANDARD
TZOFFSETFROM:+0200
TZOFFSETTO:+0100
TZNAME:CET
DTSTART:20101031T010000
END:STANDARD
END:VTIMEZONE
BEGIN:VEVENT
DTSTART;TZID=Europe/Paris:20090426T163000
DTEND;TZID=Europe/Paris:20090426T163000
DTSTAMP:20260421T105607
CREATED:20191119T081211Z
LAST-MODIFIED:20251120T155630Z
UID:2607-1240763400-1240763400@aspekte-salzburg.com
SUMMARY:PLIS/SONS | II
DESCRIPTION:Programm\n  \nPLIS/SONS (Frankreich) \nKlänge & Falten. Klangwelten aus Papier und Stimmen. \nMusiktheater für die Allerkleinsten \n  \nPlis/Sons ist eine poetische Reise in die Welt unserer Sinne. In einem Universum von Papier werden durch Bewegung und Klänge Gefühle erweckt\, mit Poesie kann man die Welt für sich entdecken. Auch schon sehr kleine Kinder können durch das Zusammenspiel von Faltarbeit\, Kindersprache\, Musik und künstlerischen Formen fasziniert werden. Plis/Sons ist das Ergebnis eines künstlerischen Prozesses\, bei dem sich verschiedene Künstler – Musiker und Maler – in ihrer Arbeit mit sehr kleinen Kindern auseinander gesetzt haben und jede ihrer Reaktionen in den Entstehungsprozess eingearbeitet haben. \n  \nMitwirkende\nLaurent Dupont\, Regie und Spiel \nMarie Franchina\, Spiel und Gesang: \nBruni Bernard\, Musik
URL:https://aspekte-salzburg.com/konzert/plis-sons-i/
LOCATION:TOI-Haus\, Franz-Josef-Straße 4\, Salzburg\, 5020
END:VEVENT
END:VCALENDAR