BEGIN:VCALENDAR
VERSION:2.0
PRODID:-//aspekte SALZBURG - ECPv6.15.14//NONSGML v1.0//EN
CALSCALE:GREGORIAN
METHOD:PUBLISH
X-WR-CALNAME:aspekte SALZBURG
X-ORIGINAL-URL:https://aspekte-salzburg.com
X-WR-CALDESC:Veranstaltungen für aspekte SALZBURG
REFRESH-INTERVAL;VALUE=DURATION:PT1H
X-Robots-Tag:noindex
X-PUBLISHED-TTL:PT1H
BEGIN:VTIMEZONE
TZID:Europe/Paris
BEGIN:DAYLIGHT
TZOFFSETFROM:+0100
TZOFFSETTO:+0200
TZNAME:CEST
DTSTART:20160327T010000
END:DAYLIGHT
BEGIN:STANDARD
TZOFFSETFROM:+0200
TZOFFSETTO:+0100
TZNAME:CET
DTSTART:20161030T010000
END:STANDARD
BEGIN:DAYLIGHT
TZOFFSETFROM:+0100
TZOFFSETTO:+0200
TZNAME:CEST
DTSTART:20170326T010000
END:DAYLIGHT
BEGIN:STANDARD
TZOFFSETFROM:+0200
TZOFFSETTO:+0100
TZNAME:CET
DTSTART:20171029T010000
END:STANDARD
BEGIN:DAYLIGHT
TZOFFSETFROM:+0100
TZOFFSETTO:+0200
TZNAME:CEST
DTSTART:20180325T010000
END:DAYLIGHT
BEGIN:STANDARD
TZOFFSETFROM:+0200
TZOFFSETTO:+0100
TZNAME:CET
DTSTART:20181028T010000
END:STANDARD
END:VTIMEZONE
BEGIN:VEVENT
DTSTART;TZID=Europe/Paris:20170520T170000
DTEND;TZID=Europe/Paris:20170520T170000
DTSTAMP:20260421T120148
CREATED:20190617T112248Z
LAST-MODIFIED:20260119T151741Z
UID:1414-1495299600-1495299600@aspekte-salzburg.com
SUMMARY:Preisträgerkonzert
DESCRIPTION:Programm\n  \nManfred Sternberger (*1961)\, Burlesque antique op. 47/1 \n//Interpreten// \nAleksandra Borodulina\, Horn \nElena Ten\, Klavier \n  \nPreisträgerstück 1 „Jugend komponiert” \n  \nSebastiana Ierna (*1975)\, „Die freudige Überraschung“ für Flöte und Klavier \n//Interpreten// \nAnja Schrofner\, Querflöte \nSebastiana Ierna\, Klavier \n  \nJakob Gruchmann (*1991)\, 4 Volkslied Variationen „Heißa Kathreinerle“ für 2 Violoncelli\, Var. Nr. 1 \n//Interpreten// \nChili Celli: \nSarah Moser\, Violoncello \nLaura Stöger\, Violoncello \n  \nPreisträgerstück 2 „Jugend komponiert“ \n  \nJakob Gruchmann (*1991)\, 3 Monofonien für Flöte Solo\, Monodie und Monolog \n//Interpreten// \nJulia Klampfer\, Querflöte \n\n  \nGyörgi Kurtág (*1926)\, Stiller Abstand von Endré Székely Schläge-Zank Blumen die Menschen (sich umschlingende Töne) \n//Interpreten// \nLaeticia Lermer\, Klavier \nNadita Warter\, Klavier \n  \nPreisträgerstück 3 „Jugend komponiert“ \n  \nAlfred Désenclos (1912–1971)\, Incantation\, Thrène et Danse \n//Interpreten// \nLorenz Widauer\, Trompete \nMadita Warter\, Klavier \n 
URL:https://aspekte-salzburg.com/konzert/preistraegerkonzert-2/
LOCATION:Kleines Studio\, Universität Mozarteum\, Mirabellplatz 1\, Salzburg\, 5020\, Österreich
CATEGORIES:Aspekte 2017,Spielräume
END:VEVENT
END:VCALENDAR