BEGIN:VCALENDAR
VERSION:2.0
PRODID:-//aspekte SALZBURG - ECPv6.15.14//NONSGML v1.0//EN
CALSCALE:GREGORIAN
METHOD:PUBLISH
X-WR-CALNAME:aspekte SALZBURG
X-ORIGINAL-URL:https://aspekte-salzburg.com
X-WR-CALDESC:Veranstaltungen für aspekte SALZBURG
REFRESH-INTERVAL;VALUE=DURATION:PT1H
X-Robots-Tag:noindex
X-PUBLISHED-TTL:PT1H
BEGIN:VTIMEZONE
TZID:Europe/Paris
BEGIN:DAYLIGHT
TZOFFSETFROM:+0100
TZOFFSETTO:+0200
TZNAME:CEST
DTSTART:20140330T010000
END:DAYLIGHT
BEGIN:STANDARD
TZOFFSETFROM:+0200
TZOFFSETTO:+0100
TZNAME:CET
DTSTART:20141026T010000
END:STANDARD
BEGIN:DAYLIGHT
TZOFFSETFROM:+0100
TZOFFSETTO:+0200
TZNAME:CEST
DTSTART:20150329T010000
END:DAYLIGHT
BEGIN:STANDARD
TZOFFSETFROM:+0200
TZOFFSETTO:+0100
TZNAME:CET
DTSTART:20151025T010000
END:STANDARD
BEGIN:DAYLIGHT
TZOFFSETFROM:+0100
TZOFFSETTO:+0200
TZNAME:CEST
DTSTART:20160327T010000
END:DAYLIGHT
BEGIN:STANDARD
TZOFFSETFROM:+0200
TZOFFSETTO:+0100
TZNAME:CET
DTSTART:20161030T010000
END:STANDARD
END:VTIMEZONE
BEGIN:VEVENT
DTSTART;TZID=Europe/Paris:20150509T160000
DTEND;TZID=Europe/Paris:20150509T160000
DTSTAMP:20260421T104819
CREATED:20190617T125439Z
LAST-MODIFIED:20260119T151706Z
UID:1426-1431187200-1431187200@aspekte-salzburg.com
SUMMARY:Preisträgerkonzert
DESCRIPTION:Programm\nGyörgy Kurtàg (*1926) aus Játékok\, „Virág az ember…”\, „Hommage á J.S. Bach” \n//Interpreten// \nFrontstreet Boys \nElias Haneul Stadler\, Klavier \nPhilipp Huber\, Klavier \n  \nPreisträgerstück 1 „Jugend komponiert” \n  \nEmanuele Casale (*1974)\, Studio 2a \n//Interpreten// \nFelix Gutschi\, Blockflöte \n  \nLuciano Berio (1925–2003)\, Duetti per due Violini\, Aldo\, Bruno \n//Interpreten// \nTandem Duo \nLaura Sophia Hummel\, Violine \nSara Simic\, Violine \n  \nRobert Dick (*1950)\, Lookout \n//Interpreten// \nEva Maria Brunnauer\, Querflöte \n  \nPreisträgerstück 2 „Jugend komponiert” \n  \n  \nOliver Messiaen (1908–1992)\, Le Merle Noir \n//Interpreten// \nAnna Katharina Neuhauser\, Querflöte \nMario Nieto-Nacerrada\, Klavier \n  \nPreisträgerstück 3 „Jugend komponiert” \n  \n  \nWerner Pirchner (1940–2001)\, Wem gehört der Mensch…? PWV 31\, IV \n//Interpreten// \nMuse Addicts \nLena Aigner\, Violine \nSarah Moser\, Violoncello \nFerdinand Rauchmann\, Klavier \n  \n  \nDie Interpretinnen und Interpreten und ihre Lehrerinnen und Lehrer \nElias Haneul Stadler\, Philipp Huber – Gianfranco Sannicandro\, Musikum . Felix Gutschi – Andrea Guttmann-Lunenburg\, Mozarteum . Laura Sophie Hummel – Michaela Girardi\, Mozarteum . Sara Simic –Werner Neugebauer\, Mozarteum . Eva Maria Brunnauer – Monika Schaber\, Musikum . Anna Katharina Neuhauser – Stefan Rauter\, Musikum . Lena Aigner – Klara Flieder-Pantillon\, Mozarteum . Sarah Moser – Barbara Lübke-Herzl\, privat . Ferdinand Rauchmann – Hiroko Miki\, Mozarteum
URL:https://aspekte-salzburg.com/konzert/preistraegerkonzert-3/
LOCATION:Kleines Studio\, Universität Mozarteum\, Mirabellplatz 1\, Salzburg\, 5020\, Österreich
CATEGORIES:Spielräume
END:VEVENT
END:VCALENDAR