BEGIN:VCALENDAR
VERSION:2.0
PRODID:-//aspekte SALZBURG - ECPv6.15.14//NONSGML v1.0//EN
CALSCALE:GREGORIAN
METHOD:PUBLISH
X-WR-CALNAME:aspekte SALZBURG
X-ORIGINAL-URL:https://aspekte-salzburg.com
X-WR-CALDESC:Veranstaltungen für aspekte SALZBURG
REFRESH-INTERVAL;VALUE=DURATION:PT1H
X-Robots-Tag:noindex
X-PUBLISHED-TTL:PT1H
BEGIN:VTIMEZONE
TZID:Europe/Paris
BEGIN:DAYLIGHT
TZOFFSETFROM:+0100
TZOFFSETTO:+0200
TZNAME:CEST
DTSTART:20120325T010000
END:DAYLIGHT
BEGIN:STANDARD
TZOFFSETFROM:+0200
TZOFFSETTO:+0100
TZNAME:CET
DTSTART:20121028T010000
END:STANDARD
BEGIN:DAYLIGHT
TZOFFSETFROM:+0100
TZOFFSETTO:+0200
TZNAME:CEST
DTSTART:20130331T010000
END:DAYLIGHT
BEGIN:STANDARD
TZOFFSETFROM:+0200
TZOFFSETTO:+0100
TZNAME:CET
DTSTART:20131027T010000
END:STANDARD
BEGIN:DAYLIGHT
TZOFFSETFROM:+0100
TZOFFSETTO:+0200
TZNAME:CEST
DTSTART:20140330T010000
END:DAYLIGHT
BEGIN:STANDARD
TZOFFSETFROM:+0200
TZOFFSETTO:+0100
TZNAME:CET
DTSTART:20141026T010000
END:STANDARD
END:VTIMEZONE
BEGIN:VEVENT
DTSTART;TZID=Europe/Paris:20130525T183000
DTEND;TZID=Europe/Paris:20130525T183000
DTSTAMP:20260421T120147
CREATED:20190716T062959Z
LAST-MODIFIED:20260119T151550Z
UID:1559-1369506600-1369506600@aspekte-salzburg.com
SUMMARY:Preisträgerkonzert
DESCRIPTION:Programm\n  \nPreisträgerstück 1 „Jugend komponiert” \n  \nSomei Satoh (*1947)\, Music of the winds \n//Interpreten// \nFelix Gutschi\, Blockflöte \n  \nSarah Moser (*2000) & Laura Stöger (*2000)\, Vergessenes Schicksal \n//Interpreten//\nChili Celi: Sarah Moser & Laura Stöger\, Violoncello \n  \nRyo Noda (*1948)\, Improvisation 1 \n//Interpreten// \nLena Aigner\, Saxophon \n  \nPreisträgerstück 2 „Jugend komponiert” \n  \nAlexander Müllenbach (*1949)\, Gesang des schwarzen Vogels \n//Interpreten// \nLisa Marie Madreiter\, Klarinette \n  \nHelmut Schmidinger (*1969)\, aus „Sechs Bagatellen über Ludwig van Beethoven” 5. grazioso \n//Interpreten//\nDuo Kla(r)VIERhände: Theresa Gierlinger & Johanna Aichriedler\, Klavier \n  \nPreisträgerstück 3 „Jugend komponiert” \n  \n 
URL:https://aspekte-salzburg.com/konzert/preistraegerkonzert-4/
LOCATION:Kleines Studio\, Universität Mozarteum\, Mirabellplatz 1\, Salzburg\, 5020\, Österreich
CATEGORIES:Spielräume
END:VEVENT
END:VCALENDAR