BEGIN:VCALENDAR
VERSION:2.0
PRODID:-//aspekte SALZBURG - ECPv6.15.14//NONSGML v1.0//EN
CALSCALE:GREGORIAN
METHOD:PUBLISH
X-WR-CALNAME:aspekte SALZBURG
X-ORIGINAL-URL:https://aspekte-salzburg.com
X-WR-CALDESC:Veranstaltungen für aspekte SALZBURG
REFRESH-INTERVAL;VALUE=DURATION:PT1H
X-Robots-Tag:noindex
X-PUBLISHED-TTL:PT1H
BEGIN:VTIMEZONE
TZID:Europe/Paris
BEGIN:DAYLIGHT
TZOFFSETFROM:+0100
TZOFFSETTO:+0200
TZNAME:CEST
DTSTART:19910331T010000
END:DAYLIGHT
BEGIN:STANDARD
TZOFFSETFROM:+0200
TZOFFSETTO:+0100
TZNAME:CET
DTSTART:19910929T010000
END:STANDARD
BEGIN:DAYLIGHT
TZOFFSETFROM:+0100
TZOFFSETTO:+0200
TZNAME:CEST
DTSTART:19920329T010000
END:DAYLIGHT
BEGIN:STANDARD
TZOFFSETFROM:+0200
TZOFFSETTO:+0100
TZNAME:CET
DTSTART:19920927T010000
END:STANDARD
BEGIN:DAYLIGHT
TZOFFSETFROM:+0100
TZOFFSETTO:+0200
TZNAME:CEST
DTSTART:19930328T010000
END:DAYLIGHT
BEGIN:STANDARD
TZOFFSETFROM:+0200
TZOFFSETTO:+0100
TZNAME:CET
DTSTART:19930926T010000
END:STANDARD
END:VTIMEZONE
BEGIN:VEVENT
DTSTART;TZID=Europe/Paris:19920528T080000
DTEND;TZID=Europe/Paris:19920528T170000
DTSTAMP:20260421T104603
CREATED:20190807T091413Z
LAST-MODIFIED:20251120T160848Z
UID:2063-707040000-707072400@aspekte-salzburg.com
SUMMARY:Sonderkonzert
DESCRIPTION:Programm\nErnst Helmuth Flammer\, superverso per organo (1985-1992) \n1. Etude 1 (1985)\, Fläche für Hans-Ola Ericsson\n2. Etude 2 (1985)\, Polyphonie für Hans-Ola Ericsson\n3. Etude 3 (1985)\, Arpeggio-Studie für Hans-Ola Ericsson\n4. Halberg-Studie 1 (1987/88)\, Symphonie I für Theo Brandmüller\n5. Halberg-Studie 2 (1987/88)\, für Josef Häusler\n6. Halberg-Studie 3 (1987/88)\, für Christoph Moosmann\n7. Superverso für eine Kleinorgel (1988/89) für Knut Rutschmann\n8. Clusterstudie (1989/90) für Gary Verkade\n9. Farbenmusik (1989/90) für meine Frau Elke\n10. Toccata (1990/91) für Zsigmond Szathmary\n11. Bozzetto/Klangfigur (1991) für Andreas Pfeiffer\n12. Finalis\, Symphonie II (1991/92) \n  \nMitwirkende\nChristoph Moosmann\, Orgel
URL:https://aspekte-salzburg.com/konzert/sonderkonzert/
LOCATION:Stiftung Mozarteum\, Großer Saal\, Schwarzstraße 28\, Salzburg\, 5020
END:VEVENT
END:VCALENDAR