BEGIN:VCALENDAR
VERSION:2.0
PRODID:-//aspekte SALZBURG - ECPv6.15.14//NONSGML v1.0//EN
CALSCALE:GREGORIAN
METHOD:PUBLISH
X-WR-CALNAME:aspekte SALZBURG
X-ORIGINAL-URL:https://aspekte-salzburg.com
X-WR-CALDESC:Veranstaltungen für aspekte SALZBURG
REFRESH-INTERVAL;VALUE=DURATION:PT1H
X-Robots-Tag:noindex
X-PUBLISHED-TTL:PT1H
BEGIN:VTIMEZONE
TZID:Europe/Paris
BEGIN:DAYLIGHT
TZOFFSETFROM:+0100
TZOFFSETTO:+0200
TZNAME:CEST
DTSTART:20070325T010000
END:DAYLIGHT
BEGIN:STANDARD
TZOFFSETFROM:+0200
TZOFFSETTO:+0100
TZNAME:CET
DTSTART:20071028T010000
END:STANDARD
BEGIN:DAYLIGHT
TZOFFSETFROM:+0100
TZOFFSETTO:+0200
TZNAME:CEST
DTSTART:20080330T010000
END:DAYLIGHT
BEGIN:STANDARD
TZOFFSETFROM:+0200
TZOFFSETTO:+0100
TZNAME:CET
DTSTART:20081026T010000
END:STANDARD
BEGIN:DAYLIGHT
TZOFFSETFROM:+0100
TZOFFSETTO:+0200
TZNAME:CEST
DTSTART:20090329T010000
END:DAYLIGHT
BEGIN:STANDARD
TZOFFSETFROM:+0200
TZOFFSETTO:+0100
TZNAME:CET
DTSTART:20091025T010000
END:STANDARD
END:VTIMEZONE
BEGIN:VEVENT
DTSTART;TZID=Europe/Paris:20080306T190000
DTEND;TZID=Europe/Paris:20080306T190000
DTSTAMP:20260421T115443
CREATED:20190722T075323Z
LAST-MODIFIED:20251120T155705Z
UID:1647-1204830000-1204830000@aspekte-salzburg.com
SUMMARY:TRAUM: Sequenz [II]
DESCRIPTION:Programm\nAnton Webern (1883-1945)\, Vier Stücke für Geige und Klavier op. 7 (1910)\nSehr langsam – Rasch – Sehr langsam – Bewegt \nKrzysztof Penderecki  (*1933)\, Miniatury für Violine und Klavier (1958) \nAlfred Schnittke (1934-1998)\, Sonate Nr. 2 für Violoncello und Klavier (1994)\nSenza Tempo – Allegro – Largo – Allegro – Lento \nFriedrich Cerha (*1926)\, Trio für Violine\, Violoncello und Pianoforte (2005)\nHeftig zupackend – Nachtstück\, sehr ruhig – Intermezzo – Finale \nAnton Webern\, Drei kleine Stücke für Violoncello und Klavier op. 11 (1914)\nMäßige Achtel – Sehr bewegt – Äußerst ruhig \n  \nMitwirkende\nRisa Schuchter\, Violine\nDetlef Mielke\, Violoncello\nAlexander Vavtar\, Klavier\nAnja Zech\, Klavier
URL:https://aspekte-salzburg.com/konzert/traum-sequenz-ii/
LOCATION:Solitär\, Universität Mozarteum\, Mirabellplatz 1\, Salzburg\, 5020\, Österreich
END:VEVENT
END:VCALENDAR