BEGIN:VCALENDAR
VERSION:2.0
PRODID:-//aspekte SALZBURG - ECPv6.15.14//NONSGML v1.0//EN
CALSCALE:GREGORIAN
METHOD:PUBLISH
X-WR-CALNAME:aspekte SALZBURG
X-ORIGINAL-URL:https://aspekte-salzburg.com
X-WR-CALDESC:Veranstaltungen für aspekte SALZBURG
REFRESH-INTERVAL;VALUE=DURATION:PT1H
X-Robots-Tag:noindex
X-PUBLISHED-TTL:PT1H
BEGIN:VTIMEZONE
TZID:Europe/Paris
BEGIN:DAYLIGHT
TZOFFSETFROM:+0100
TZOFFSETTO:+0200
TZNAME:CEST
DTSTART:20070325T010000
END:DAYLIGHT
BEGIN:STANDARD
TZOFFSETFROM:+0200
TZOFFSETTO:+0100
TZNAME:CET
DTSTART:20071028T010000
END:STANDARD
BEGIN:DAYLIGHT
TZOFFSETFROM:+0100
TZOFFSETTO:+0200
TZNAME:CEST
DTSTART:20080330T010000
END:DAYLIGHT
BEGIN:STANDARD
TZOFFSETFROM:+0200
TZOFFSETTO:+0100
TZNAME:CET
DTSTART:20081026T010000
END:STANDARD
BEGIN:DAYLIGHT
TZOFFSETFROM:+0100
TZOFFSETTO:+0200
TZNAME:CEST
DTSTART:20090329T010000
END:DAYLIGHT
BEGIN:STANDARD
TZOFFSETFROM:+0200
TZOFFSETTO:+0100
TZNAME:CET
DTSTART:20091025T010000
END:STANDARD
END:VTIMEZONE
BEGIN:VEVENT
DTSTART;TZID=Europe/Paris:20080307T203000
DTEND;TZID=Europe/Paris:20080307T203000
DTSTAMP:20260421T104324
CREATED:20190722T082315Z
LAST-MODIFIED:20251120T155654Z
UID:1653-1204921800-1204921800@aspekte-salzburg.com
SUMMARY:TRAUM: Sequenz [III]
DESCRIPTION:Programm\nGeorg Friedrich Haas (*1953)\, 2. Streichquartett (1998) \nGerd Kühr (*1952)\, Con sordino (1995/96) für zwei Violinen\, Viola und Violoncello \nGeorg Friedrich Haas\, 1. Streichquartett (1997) \n  \nMitwirkende\nKairos Quartett\nWolfgang Bender\, Violine\nSusanne Zapf\, Violine\nSimone Heilgendorff\, Viola\nClaudius von Wrochem\, Violoncello
URL:https://aspekte-salzburg.com/konzert/traum-sequenz-iii-2/
LOCATION:Solitär\, Universität Mozarteum\, Mirabellplatz 1\, Salzburg\, 5020\, Österreich
END:VEVENT
END:VCALENDAR