BEGIN:VCALENDAR
VERSION:2.0
PRODID:-//aspekte SALZBURG - ECPv6.15.14//NONSGML v1.0//EN
CALSCALE:GREGORIAN
METHOD:PUBLISH
X-WR-CALNAME:aspekte SALZBURG
X-ORIGINAL-URL:https://aspekte-salzburg.com
X-WR-CALDESC:Veranstaltungen für aspekte SALZBURG
REFRESH-INTERVAL;VALUE=DURATION:PT1H
X-Robots-Tag:noindex
X-PUBLISHED-TTL:PT1H
BEGIN:VTIMEZONE
TZID:Europe/Paris
BEGIN:DAYLIGHT
TZOFFSETFROM:+0100
TZOFFSETTO:+0200
TZNAME:CEST
DTSTART:20080330T010000
END:DAYLIGHT
BEGIN:STANDARD
TZOFFSETFROM:+0200
TZOFFSETTO:+0100
TZNAME:CET
DTSTART:20081026T010000
END:STANDARD
BEGIN:DAYLIGHT
TZOFFSETFROM:+0100
TZOFFSETTO:+0200
TZNAME:CEST
DTSTART:20090329T010000
END:DAYLIGHT
BEGIN:STANDARD
TZOFFSETFROM:+0200
TZOFFSETTO:+0100
TZNAME:CET
DTSTART:20091025T010000
END:STANDARD
BEGIN:DAYLIGHT
TZOFFSETFROM:+0100
TZOFFSETTO:+0200
TZNAME:CEST
DTSTART:20100328T010000
END:DAYLIGHT
BEGIN:STANDARD
TZOFFSETFROM:+0200
TZOFFSETTO:+0100
TZNAME:CET
DTSTART:20101031T010000
END:STANDARD
END:VTIMEZONE
BEGIN:VEVENT
DTSTART;TZID=Europe/Paris:20090429T090000
DTEND;TZID=Europe/Paris:20090429T090000
DTSTAMP:20260421T104821
CREATED:20191119T082701Z
LAST-MODIFIED:20251120T155613Z
UID:2622-1240995600-1240995600@aspekte-salzburg.com
SUMMARY:Traumklang – Notturni
DESCRIPTION:Programm\n„Manchmal träume ich\, dass ich in der Schule kämpfe. Dann fliege ich über die anderen weg. Das ist wunderschön. Ich fühle mich dann leicht wie eine Feder.“ (Traum eines 8 Jährigen) \nTraumKlang ist ein Musikvermittlungskonzert mit zeitgenössischer Musik für Kinder. \n  \nMitwirkende\nAlrun Pacher\, Konzept und Moderation \nKimiko Hagiwara\, Gesang \nRisa Schuchter\, Geige \nElena Braslavsky\, Klavier \n  \n 
URL:https://aspekte-salzburg.com/konzert/traumklang-notturni/
LOCATION:Steinway-Saal\, Schwarzstraße 49\, Salzburg\, 5020\, Österreich
END:VEVENT
END:VCALENDAR