BEGIN:VCALENDAR
VERSION:2.0
PRODID:-//aspekte SALZBURG - ECPv6.15.14//NONSGML v1.0//EN
CALSCALE:GREGORIAN
METHOD:PUBLISH
X-WR-CALNAME:aspekte SALZBURG
X-ORIGINAL-URL:https://aspekte-salzburg.com
X-WR-CALDESC:Veranstaltungen für aspekte SALZBURG
REFRESH-INTERVAL;VALUE=DURATION:PT1H
X-Robots-Tag:noindex
X-PUBLISHED-TTL:PT1H
BEGIN:VTIMEZONE
TZID:Europe/Paris
BEGIN:DAYLIGHT
TZOFFSETFROM:+0100
TZOFFSETTO:+0200
TZNAME:CEST
DTSTART:20150329T010000
END:DAYLIGHT
BEGIN:STANDARD
TZOFFSETFROM:+0200
TZOFFSETTO:+0100
TZNAME:CET
DTSTART:20151025T010000
END:STANDARD
BEGIN:DAYLIGHT
TZOFFSETFROM:+0100
TZOFFSETTO:+0200
TZNAME:CEST
DTSTART:20160327T010000
END:DAYLIGHT
BEGIN:STANDARD
TZOFFSETFROM:+0200
TZOFFSETTO:+0100
TZNAME:CET
DTSTART:20161030T010000
END:STANDARD
BEGIN:DAYLIGHT
TZOFFSETFROM:+0100
TZOFFSETTO:+0200
TZNAME:CEST
DTSTART:20170326T010000
END:DAYLIGHT
BEGIN:STANDARD
TZOFFSETFROM:+0200
TZOFFSETTO:+0100
TZNAME:CET
DTSTART:20171029T010000
END:STANDARD
END:VTIMEZONE
BEGIN:VEVENT
DTSTART;TZID=Europe/Paris:20160603T213000
DTEND;TZID=Europe/Paris:20160603T223000
DTSTAMP:20260421T104937
CREATED:20160406T160806Z
LAST-MODIFIED:20251120T154500Z
UID:147-1464989400-1464993000@aspekte-salzburg.com
SUMMARY:VI | Au Poisson Rouge - Cloches d'adieu\, et un sourire...
DESCRIPTION:Programm\nTristan Murail\, Cloches d’adieu\, et un sourire … in Memoriam Olivier Messiaen (1992) \n\nLudwig Nussbichler\, Traumbildfragmente III für Klavier und Violine (2003) \n\nGerd Kühr\, Stop the piano (2006) \n\nAlexander Müllenbach\, Neues Werk für Klavier zu 4 Händen\, Uraufführung \nI. Cauchemare (Albtraum)\nII. La vallée des songes (Das Tal der Träume)\nIII. Obsessions\nIV. L’île bleue (Die blaue Insel) \n  \nHenri Dutillieux\, Sonate pour piano (1947/48) \nAllegro con moto\nLied\nChoral et Variations \n  \nMitwirkende\nArdita Statovci\, Klavier \nAriane Haering\, Klavier \nChiara Sannicandro\, Violine \n  \n\nMit „den Glocken des Abschieds und einem Lächeln“ – so gedachte Murail des großen Messiaen. Ludwig Nussbichlers klingende Träume\, Alexander Müllenbachs vierhändige Phantasien\, Gerd Kührs neuer Blick aufs Klavier und eine der bedeutendsten Klaviersonaten nach 1945 bilden einen aufregenden Programmbogen.
URL:https://aspekte-salzburg.com/konzert/vi-au-poisson-rouge-cloches-dadieu-et-un-sourire/
LOCATION:Kavernen 1595\, Gstättengasse 27–29\, Salzburg\, 5020\, Österreich
CATEGORIES:Aspekte 2016
ATTACH;FMTTYPE=image/jpeg:https://aspekte-salzburg.com/wp-content/uploads/2016/05/ardita-statovci.jpg
END:VEVENT
END:VCALENDAR