BEGIN:VCALENDAR
VERSION:2.0
PRODID:-//aspekte SALZBURG - ECPv6.15.14//NONSGML v1.0//EN
CALSCALE:GREGORIAN
METHOD:PUBLISH
X-WR-CALNAME:aspekte SALZBURG
X-ORIGINAL-URL:https://aspekte-salzburg.com
X-WR-CALDESC:Veranstaltungen für aspekte SALZBURG
REFRESH-INTERVAL;VALUE=DURATION:PT1H
X-Robots-Tag:noindex
X-PUBLISHED-TTL:PT1H
BEGIN:VTIMEZONE
TZID:Europe/Paris
BEGIN:DAYLIGHT
TZOFFSETFROM:+0100
TZOFFSETTO:+0200
TZNAME:CEST
DTSTART:20150329T010000
END:DAYLIGHT
BEGIN:STANDARD
TZOFFSETFROM:+0200
TZOFFSETTO:+0100
TZNAME:CET
DTSTART:20151025T010000
END:STANDARD
BEGIN:DAYLIGHT
TZOFFSETFROM:+0100
TZOFFSETTO:+0200
TZNAME:CEST
DTSTART:20160327T010000
END:DAYLIGHT
BEGIN:STANDARD
TZOFFSETFROM:+0200
TZOFFSETTO:+0100
TZNAME:CET
DTSTART:20161030T010000
END:STANDARD
BEGIN:DAYLIGHT
TZOFFSETFROM:+0100
TZOFFSETTO:+0200
TZNAME:CEST
DTSTART:20170326T010000
END:DAYLIGHT
BEGIN:STANDARD
TZOFFSETFROM:+0200
TZOFFSETTO:+0100
TZNAME:CET
DTSTART:20171029T010000
END:STANDARD
END:VTIMEZONE
BEGIN:VEVENT
DTSTART;TZID=Europe/Paris:20160604T190000
DTEND;TZID=Europe/Paris:20160604T210000
DTSTAMP:20260421T104900
CREATED:20160406T161819Z
LAST-MODIFIED:20251120T154428Z
UID:150-1465066800-1465074000@aspekte-salzburg.com
SUMMARY:VII | Liber Fulguralis
DESCRIPTION:Programm\nSteve Lehman\, „For McCoy Tyner\, Tristan Murail\, Anthony Braxton\, and Alexander Scriabin“ für Saxophon und Klavier \n\nLu Wang\, Neues Werk für Klarinette\, Saxophon\, Gitarre\, Viola\, Klavier und Schlagwerk\, Uraufführung \n\nTristan Murail\, „Feuilles à travers les cloches“ für Flöte\, Violine\, Cello und Klavier (1998) \n\nChristopher Trapani\, „Anyplace Else“ für Flöte\, Oboe\, Klarinette\, Saxophon\, Elektronische Gitarre\, Klavier\, Violine\, Viola\, Cello und Kontrabass (2012) \n\nTristan Murail\, „Liber Fulguralis“ pour ensemble instrumental\, synthèse électronique et vidéo (2008) \n\n  \nMitwirkende\n\nICE (International Contemporary Ensemble New York) & Ensemble L´Itinéraire \nJean-Michaël Lavoie\, Musikalische Leitung \n\n\n  \n\n\nTristan Murail trifft in Steve Lehmans Hommage auf den russischen Visionär Skrjabin und die lebende Saxophonlegende Anthony Braxton. Rund um die Werke von Murail gibt es einen spannenden\, erhellenden Reigen neuer Werke junger Komponierender aus den USA\, zum Teil Schüler des Meisters spektralen Klangzaubers.Im Zentrum der Ensemble-Fusion des ICE und des Ensemble L´Itinéraire steht das Werk Liber Fulguralis\, eine „création commune“\, deren musikalische und visuelle Komponenten von Tristan Murail und Hervé Bailly-Basie simultan ausgearbeitet wurden. Inspiriert von der Kunst der antiken Orakle-Deutung von Blitzen\, entwickelt das Werk über knapp eine halbe Stunde eine poetische Exegese eines der faszinierendsten Naturphänomene.
URL:https://aspekte-salzburg.com/konzert/vii-liber-fulguralis/
LOCATION:republic\, Anton-Neumayr-Platz 2\, Salzburg\, 5020\, Österreich
CATEGORIES:Aspekte 2016
ATTACH;FMTTYPE=image/jpeg:https://aspekte-salzburg.com/wp-content/uploads/2016/04/ICE-2012-Armen-Elliott.jpg
END:VEVENT
END:VCALENDAR